BEGIN:VCALENDAR
VERSION:2.0
PRODID:-//wp-events-plugin.com//7.2.3.1//EN
TZID:Europe/London
X-WR-TIMEZONE:Europe/London
BEGIN:VEVENT
UID:86@indexers.org.uk
DTSTART;TZID=Europe/London:20190619T103000
DTEND;TZID=Europe/London:20190619T133000
DTSTAMP:20190410T222048Z
URL:https://www.indexers.org.uk/events/yorkshire-group-meeting-4/
SUMMARY:Yorkshire Group meeting
DESCRIPTION:Tour of Leeds Library followed by lunch
CATEGORIES:Group meetings
LOCATION:Leeds Library\, Commerical Street\, Leeds\, LS1 6AL\, United Kingd
 om
GEO:53.79742900000001;-1.5434861999999612
X-APPLE-STRUCTURED-LOCATION;VALUE=URI;X-ADDRESS=Commerical Street\, Leeds\,
  LS1 6AL\, United Kingdom;X-APPLE-RADIUS=100;X-TITLE=Leeds Library:geo:53.
 79742900000001,-1.5434861999999612
END:VEVENT
BEGIN:VTIMEZONE
TZID:Europe/London
X-LIC-LOCATION:Europe/London
BEGIN:DAYLIGHT
DTSTART:20190331T020000
TZOFFSETFROM:+0000
TZOFFSETTO:+0100
TZNAME:BST
END:DAYLIGHT
END:VTIMEZONE
END:VCALENDAR