BEGIN:VCALENDAR
VERSION:2.0
PRODID:-//wp-events-plugin.com//7.2.3.1//EN
TZID:Europe/London
X-WR-TIMEZONE:Europe/London
BEGIN:VEVENT
UID:131@indexers.org.uk
DTSTART;TZID=Europe/London:20200609T103000
DTEND;TZID=Europe/London:20200609T111500
DTSTAMP:20200601T112714Z
URL:https://www.indexers.org.uk/events/three-choirs-group-7/
SUMMARY:Three Choirs group
DESCRIPTION:Virtual get-together via Zoom
CATEGORIES:Group meetings
END:VEVENT
BEGIN:VTIMEZONE
TZID:Europe/London
X-LIC-LOCATION:Europe/London
BEGIN:DAYLIGHT
DTSTART:20200329T020000
TZOFFSETFROM:+0000
TZOFFSETTO:+0100
TZNAME:BST
END:DAYLIGHT
END:VTIMEZONE
END:VCALENDAR