BEGIN:VCALENDAR
VERSION:2.0
PRODID:-//wp-events-plugin.com//7.2.3.1//EN
TZID:Europe/London
X-WR-TIMEZONE:Europe/London
BEGIN:VEVENT
UID:181@indexers.org.uk
DTSTART;TZID=Europe/London:20260331T103000
DTEND;TZID=Europe/London:20260331T163000
DTSTAMP:20260216T173359Z
URL:https://www.indexers.org.uk/events/national-indexing-day-2026-publishe
 rs-workshop/
SUMMARY:National Indexing Day 2026 Publishers' Workshop
DESCRIPTION:&nbsp\;\n\nFor National Indexing Day 2026\, the Society of Inde
 xers is offering an in-person workshop for publishing professionals who wo
 uld like to improve their understanding of the indexing process. It will b
 e held at the Publishers Association in London. The workshop will run twic
 e\, starting at 10:30 in the morning and repeating at 14:00 in the afterno
 on. You only need to book a ticket for one of the sessions.\n\nA series of
  presentations by professional indexers will cover the value of human inde
 xes\, how they make knowledge accessible\, index usabilty\, and the softwa
 re/technology options available. There will also be an interactive practic
 al session for participants to try live indexing and time for questions an
 d discussion. The detailed programme is available here\n\nThe workshop pr
 ovides a useful opportunity for indexers and publishers to learn from each
  other so that together we can create better indexes and make non-fiction 
 books more valuable and saleable.\n\nPlaces are strictly limited and booki
 ng will close on 24th March.
ATTACH;FMTTYPE=image/jpeg:https://www.indexers.org.uk/wp-content/uploads/2
 026/02/National-Indexing-Day-2026.png
CATEGORIES:Workshops
LOCATION:The Publishers Association\, 50 Southwark Street\, London\, SE1 1U
 N\, United Kingdom
GEO:51.504991;-0.094679
X-APPLE-STRUCTURED-LOCATION;VALUE=URI;X-ADDRESS=50 Southwark Street\, Londo
 n\, SE1 1UN\, United Kingdom;X-APPLE-RADIUS=100;X-TITLE=The Publishers Ass
 ociation:geo:51.504991,-0.094679
END:VEVENT
BEGIN:VTIMEZONE
TZID:Europe/London
X-LIC-LOCATION:Europe/London
BEGIN:DAYLIGHT
DTSTART:20260329T020000
TZOFFSETFROM:+0000
TZOFFSETTO:+0100
TZNAME:BST
END:DAYLIGHT
END:VTIMEZONE
END:VCALENDAR