BEGIN:VCALENDAR
VERSION:2.0
PRODID:-//wp-events-plugin.com//7.2.3.1//EN
TZID:Europe/London
X-WR-TIMEZONE:Europe/London
BEGIN:VEVENT
UID:175@indexers.org.uk
DTSTART;TZID=Europe/London:20250327T103000
DTEND;TZID=Europe/London:20250327T163000
DTSTAMP:20250116T143314Z
URL:https://www.indexers.org.uk/events/national-indexing-day-2025-publishe
 rs-workshop/
SUMMARY:National Indexing Day 2025 Publishers' Workshop
DESCRIPTION:For National Indexing Day 2025\, the Society of Indexers is off
 ering an in-person workshop for publishing professionals who would like to
  improve their understanding of the indexing process. It will be held at t
 he Publishers Association in London. The workshop will run twice\, startin
 g at 10:30 in the morning and repeating at 14:00 in the afternoon. You onl
 y need to book a ticket for one of the sessions.\n\nFollowing a welcome fr
 om our new honorary president\, Caroline Sanderson\, a series of presentat
 ions by professional indexers will cover the value of human indexes\, how 
 best to work with an indexer and the advantages of indexing software used 
 by indexers. There will also be an interactive practical session for parti
 cipants to try live indexing and time for questions and discussion. Please
  see the outline programme here.\n\nThe workshop provides a useful opport
 unity for indexers and publishers to learn from each other so that togethe
 r we can create better indexes and make non-fiction books more valuable an
 d saleable.\n\nPlaces are strictly limited and booking will close on 20th 
 March.
ATTACH;FMTTYPE=image/jpeg:https://www.indexers.org.uk/wp-content/uploads/2
 025/01/NID-2025-logo.png
CATEGORIES:Workshops
LOCATION:The Publishers Association\, 50 Southwark Street\, London\, SE1 1U
 N\, United Kingdom
GEO:51.504991;-0.094679
X-APPLE-STRUCTURED-LOCATION;VALUE=URI;X-ADDRESS=50 Southwark Street\, Londo
 n\, SE1 1UN\, United Kingdom;X-APPLE-RADIUS=100;X-TITLE=The Publishers Ass
 ociation:geo:51.504991,-0.094679
END:VEVENT
BEGIN:VTIMEZONE
TZID:Europe/London
X-LIC-LOCATION:Europe/London
BEGIN:STANDARD
DTSTART:20241027T010000
TZOFFSETFROM:+0100
TZOFFSETTO:+0000
TZNAME:GMT
END:STANDARD
END:VTIMEZONE
END:VCALENDAR