BEGIN:VCALENDAR
VERSION:2.0
PRODID:-//wp-events-plugin.com//7.2.3.1//EN
TZID:Europe/London
X-WR-TIMEZONE:Europe/London
BEGIN:VEVENT
UID:166@indexers.org.uk
DTSTART;TZID=Europe/London:20240328T103000
DTEND;TZID=Europe/London:20240328T163000
DTSTAMP:20240315T155738Z
URL:https://www.indexers.org.uk/events/national-indexing-day-2024-publishe
 rs-workshop/
SUMMARY:National Indexing Day 2024 Publishers' Workshop
DESCRIPTION:For National Indexing Day 2024 we are back in London with an in
 -person workshop for publishing professionals who would like to improve th
 eir understanding of the indexing process. The workshop will run twice\, s
 tarting at 10:30 in the morning and repeating at 14:00 in the afternoon. Y
 ou only need to book a ticket for one of the sessions.\n\nFollowing a welc
 ome from our honorary president\, Sam Leith\, a series of presentations by
  professional indexers will cover the value of indexes\, how best to work 
 with an indexer and the advantages of indexing software used by indexers. 
 There will also be an interactive practical session for participants to tr
 y live indexing and time for questions and discussion. Outline programme h
 ere\n\nThe workshop provides a useful opportunity for indexers and publish
 ers to learn from each other so that together we can create better indexes
  and make non-fiction books more valuable and saleable.\n\nPlaces are stri
 ctly limited and booking will close on 20th March.\n\n&nbsp\;\n\n&nbsp\;
CATEGORIES:Workshops
LOCATION:The Publishers Association\, 50 Southwark Street\, London\, SE1 1U
 N\, United Kingdom
GEO:51.504991;-0.094679
X-APPLE-STRUCTURED-LOCATION;VALUE=URI;X-ADDRESS=50 Southwark Street\, Londo
 n\, SE1 1UN\, United Kingdom;X-APPLE-RADIUS=100;X-TITLE=The Publishers Ass
 ociation:geo:51.504991,-0.094679
END:VEVENT
BEGIN:VTIMEZONE
TZID:Europe/London
X-LIC-LOCATION:Europe/London
BEGIN:STANDARD
DTSTART:20231029T010000
TZOFFSETFROM:+0100
TZOFFSETTO:+0000
TZNAME:GMT
END:STANDARD
END:VTIMEZONE
END:VCALENDAR