BEGIN:VCALENDAR
VERSION:2.0
PRODID:-//wp-events-plugin.com//7.2.3.1//EN
TZID:Europe/London
X-WR-TIMEZONE:Europe/London
BEGIN:VEVENT
UID:156@indexers.org.uk
DTSTART;TZID=Europe/London:20230330T125000
DTEND;TZID=Europe/London:20230330T151500
DTSTAMP:20230301T101021Z
URL:https://www.indexers.org.uk/events/national-indexing-day-2023/
SUMMARY:National Indexing Day 2023
DESCRIPTION:An opportunity to find out how indexers work and how they can a
 dd value to your book.
ATTACH;FMTTYPE=image/jpeg:https://www.indexers.org.uk/wp-content/uploads/2
 023/02/National-Indexing-Day-2023.png
CATEGORIES:Conferences
END:VEVENT
BEGIN:VTIMEZONE
TZID:Europe/London
X-LIC-LOCATION:Europe/London
BEGIN:DAYLIGHT
DTSTART:20230326T020000
TZOFFSETFROM:+0000
TZOFFSETTO:+0100
TZNAME:BST
END:DAYLIGHT
END:VTIMEZONE
END:VCALENDAR