BEGIN:VCALENDAR
VERSION:2.0
PRODID:-//wp-events-plugin.com//7.2.3.1//EN
TZID:Europe/London
X-WR-TIMEZONE:Europe/London
BEGIN:VEVENT
UID:147@indexers.org.uk
DTSTART;TZID=Europe/London:20220330T120000
DTEND;TZID=Europe/London:20220330T131500
DTSTAMP:20220318T132648Z
URL:https://www.indexers.org.uk/events/national-indexing-day-2022-online-p
 resentation/
SUMMARY:National Indexing Day 2022 Online Presentation
DESCRIPTION:A free online live discussion session with six of our members o
 n #indexday. There will be three parts to the session. We’ll be looking 
 at the experience of being an indexer\, with a member who has recently com
 pleted our professional training course chatting with someone with a well-
 established career. Then we’ll be comparing the differences in indexing 
 requirements for academic and trade publishers. We’ll finish with a look
  at what needs to be considered when working with an author\, including th
 e complexity of embedded indexing. The event will be of interest to anyone
  in publishing and those wanting to explore a career in indexing.\n\nPlace
 s are limited. If you are in publishing and in the office\, why not arrang
 e for several colleagues to all watch on the one ticket?\n\nThe link for w
 atching will be sent to you shortly before the event begins. We will begin
  promptly at 12:00 UK time (11:00 UTC)\n\n&nbsp\;
END:VEVENT
BEGIN:VTIMEZONE
TZID:Europe/London
X-LIC-LOCATION:Europe/London
BEGIN:DAYLIGHT
DTSTART:20220327T020000
TZOFFSETFROM:+0000
TZOFFSETTO:+0100
TZNAME:BST
END:DAYLIGHT
END:VTIMEZONE
END:VCALENDAR