BEGIN:VCALENDAR
VERSION:2.0
PRODID:-//wp-events-plugin.com//7.2.3.1//EN
TZID:Europe/London
X-WR-TIMEZONE:Europe/London
BEGIN:VEVENT
UID:67@indexers.org.uk
DTSTART;TZID=Europe/London:20190328T120000
DTEND;TZID=Europe/London:20190328T163000
DTSTAMP:20210913T114200Z
URL:https://www.indexers.org.uk/events/national-indexing-day-2019/
SUMMARY:National Indexing Day 2019
DESCRIPTION:An opportunity to find out how indexers work and how they can a
 dd value to your book.
ATTACH;FMTTYPE=image/jpeg:https://www.indexers.org.uk/wp-content/uploads/2
 019/02/Indexing-Day-1024x512.gif
CATEGORIES:Conferences
LOCATION:International Anthony Burgess Foundation\, Engine House Chorlton M
 ill\, 3 Cambridge Street\, Manchester\, M1 5BY\, United Kingdom
GEO:53.4723744;-2.2434683999999834
X-APPLE-STRUCTURED-LOCATION;VALUE=URI;X-ADDRESS=Engine House Chorlton Mill\
 , 3 Cambridge Street\, Manchester\, M1 5BY\, United Kingdom;X-APPLE-RADIUS
 =100;X-TITLE=International Anthony Burgess Foundation:geo:53.4723744,-2.24
 34683999999834
END:VEVENT
BEGIN:VTIMEZONE
TZID:Europe/London
X-LIC-LOCATION:Europe/London
BEGIN:STANDARD
DTSTART:20181028T010000
TZOFFSETFROM:+0100
TZOFFSETTO:+0000
TZNAME:GMT
END:STANDARD
END:VTIMEZONE
END:VCALENDAR